BEGIN:VCALENDAR
VERSION:2.0
PRODID:-//Freeway Rider´s MC since 1974 - ECPv6.15.18//NONSGML v1.0//EN
CALSCALE:GREGORIAN
METHOD:PUBLISH
X-ORIGINAL-URL:https://freewayriders.de
X-WR-CALDESC:Veranstaltungen für Freeway Rider´s MC since 1974
REFRESH-INTERVAL;VALUE=DURATION:PT1H
X-Robots-Tag:noindex
X-PUBLISHED-TTL:PT1H
BEGIN:VTIMEZONE
TZID:Europe/Berlin
BEGIN:DAYLIGHT
TZOFFSETFROM:+0100
TZOFFSETTO:+0200
TZNAME:CEST
DTSTART:20250330T010000
END:DAYLIGHT
BEGIN:STANDARD
TZOFFSETFROM:+0200
TZOFFSETTO:+0100
TZNAME:CET
DTSTART:20251026T010000
END:STANDARD
BEGIN:DAYLIGHT
TZOFFSETFROM:+0100
TZOFFSETTO:+0200
TZNAME:CEST
DTSTART:20260329T010000
END:DAYLIGHT
BEGIN:STANDARD
TZOFFSETFROM:+0200
TZOFFSETTO:+0100
TZNAME:CET
DTSTART:20261025T010000
END:STANDARD
BEGIN:DAYLIGHT
TZOFFSETFROM:+0100
TZOFFSETTO:+0200
TZNAME:CEST
DTSTART:20270328T010000
END:DAYLIGHT
BEGIN:STANDARD
TZOFFSETFROM:+0200
TZOFFSETTO:+0100
TZNAME:CET
DTSTART:20271031T010000
END:STANDARD
END:VTIMEZONE
BEGIN:VEVENT
DTSTART;VALUE=DATE:20260424
DTEND;VALUE=DATE:20260425
DTSTAMP:20260424T101706
CREATED:20260308T184455Z
LAST-MODIFIED:20260308T184455Z
UID:34599-1776988800-1777075199@freewayriders.de
SUMMARY:Neueinweihung beim FRMC Gladbeck
DESCRIPTION:Nach kurzer aber intensiver „Restauration“ feiern wir Neueinweihung 
URL:https://freewayriders.de/?tribe_events=neueinweihung-beim-frmc-gladbeck
LOCATION:Clubhaus Gladbeck\, Europastr. 44\, Gladbeck\, 45968\, Deutschland
CATEGORIES:Einweihung,Offener Abend
ATTACH;FMTTYPE=image/jpeg:https://freewayriders.de/wp-content/uploads/2026/03/Einweihung_Party-240426.jpg
END:VEVENT
BEGIN:VEVENT
DTSTART;TZID=Europe/Berlin:20260620T170000
DTEND;TZID=Europe/Berlin:20260620T235900
DTSTAMP:20260424T101706
CREATED:20260203T182913Z
LAST-MODIFIED:20260203T182913Z
UID:34592-1781974800-1781999940@freewayriders.de
SUMMARY:Friendshipparty in Emmerich
DESCRIPTION:Feiert mit uns unseren offenen Abend am 20. Juni  ab 17:00
URL:https://freewayriders.de/?tribe_events=friendshipparty-in-emmerich-3
LOCATION:Clubhaus Emmerich
CATEGORIES:Offener Abend
ATTACH;FMTTYPE=image/jpeg:https://freewayriders.de/wp-content/uploads/2026/02/Friendshipparty_Emmerich.jpg
END:VEVENT
BEGIN:VEVENT
DTSTART;VALUE=DATE:20260919
DTEND;VALUE=DATE:20260920
DTSTAMP:20260424T101706
CREATED:20260407T131744Z
LAST-MODIFIED:20260407T131744Z
UID:34604-1789776000-1789862399@freewayriders.de
SUMMARY:Jubiläum in Montenegro
DESCRIPTION:Feiert mit uns unseren 1 ANNIVERSARY in Montenegro
URL:https://freewayriders.de/?tribe_events=jubilaeum-in-montenegro
CATEGORIES:Einweihung,Jahresparty,Offener Abend
ATTACH;FMTTYPE=image/jpeg:https://freewayriders.de/wp-content/uploads/2026/04/PHOTO-2026-04-07-12-06-41.jpg
END:VEVENT
END:VCALENDAR